BEGIN:VCALENDAR
VERSION:2.0
PRODID:-//NWTA - ECPv6.15.17.1//NONSGML v1.0//EN
CALSCALE:GREGORIAN
METHOD:PUBLISH
X-WR-CALNAME:NWTA
X-ORIGINAL-URL:https://nwta.com
X-WR-CALDESC:Events for NWTA
REFRESH-INTERVAL;VALUE=DURATION:PT1H
X-Robots-Tag:noindex
X-PUBLISHED-TTL:PT1H
BEGIN:VTIMEZONE
TZID:America/Chicago
BEGIN:DAYLIGHT
TZOFFSETFROM:-0600
TZOFFSETTO:-0500
TZNAME:CDT
DTSTART:20150308T080000
END:DAYLIGHT
BEGIN:STANDARD
TZOFFSETFROM:-0500
TZOFFSETTO:-0600
TZNAME:CST
DTSTART:20151101T070000
END:STANDARD
BEGIN:DAYLIGHT
TZOFFSETFROM:-0600
TZOFFSETTO:-0500
TZNAME:CDT
DTSTART:20160313T080000
END:DAYLIGHT
BEGIN:STANDARD
TZOFFSETFROM:-0500
TZOFFSETTO:-0600
TZNAME:CST
DTSTART:20161106T070000
END:STANDARD
BEGIN:DAYLIGHT
TZOFFSETFROM:-0600
TZOFFSETTO:-0500
TZNAME:CDT
DTSTART:20170312T080000
END:DAYLIGHT
BEGIN:STANDARD
TZOFFSETFROM:-0500
TZOFFSETTO:-0600
TZNAME:CST
DTSTART:20171105T070000
END:STANDARD
BEGIN:DAYLIGHT
TZOFFSETFROM:-0600
TZOFFSETTO:-0500
TZNAME:CDT
DTSTART:20180311T080000
END:DAYLIGHT
BEGIN:STANDARD
TZOFFSETFROM:-0500
TZOFFSETTO:-0600
TZNAME:CST
DTSTART:20181104T070000
END:STANDARD
BEGIN:DAYLIGHT
TZOFFSETFROM:-0600
TZOFFSETTO:-0500
TZNAME:CDT
DTSTART:20190310T080000
END:DAYLIGHT
BEGIN:STANDARD
TZOFFSETFROM:-0500
TZOFFSETTO:-0600
TZNAME:CST
DTSTART:20191103T070000
END:STANDARD
BEGIN:DAYLIGHT
TZOFFSETFROM:-0600
TZOFFSETTO:-0500
TZNAME:CDT
DTSTART:20200308T080000
END:DAYLIGHT
BEGIN:STANDARD
TZOFFSETFROM:-0500
TZOFFSETTO:-0600
TZNAME:CST
DTSTART:20201101T070000
END:STANDARD
BEGIN:DAYLIGHT
TZOFFSETFROM:-0600
TZOFFSETTO:-0500
TZNAME:CDT
DTSTART:20210314T080000
END:DAYLIGHT
BEGIN:STANDARD
TZOFFSETFROM:-0500
TZOFFSETTO:-0600
TZNAME:CST
DTSTART:20211107T070000
END:STANDARD
BEGIN:DAYLIGHT
TZOFFSETFROM:-0600
TZOFFSETTO:-0500
TZNAME:CDT
DTSTART:20220313T080000
END:DAYLIGHT
BEGIN:STANDARD
TZOFFSETFROM:-0500
TZOFFSETTO:-0600
TZNAME:CST
DTSTART:20221106T070000
END:STANDARD
END:VTIMEZONE
BEGIN:VEVENT
DTSTART;VALUE=DATE:20210925
DTEND;VALUE=DATE:20210927
DTSTAMP:20260420T215648
CREATED:20210223T200613Z
LAST-MODIFIED:20210223T200613Z
UID:5829-1632528000-1632700799@nwta.com
SUMMARY:Vermilion Valley Encampment
DESCRIPTION:Step back in time with the NWTA at a quiet\, forested park site! Daily tactical demonstrations\, horses\, and more.  Visit the military camps and learn about the soldiers\, civilians\, and even equines who participated in America’s war for independence.  Free admission.
URL:https://nwta.com/event/vermilion-valley-encampment-4/
LOCATION:Forest Glen Nature Preserve\, 20301 E 900 North Rd.\, Westville\,\, IL\, 61883\, United States
ORGANIZER;CN="North West Territory Alliance - NWTA":MAILTO:noreply@facebookmail.com
END:VEVENT
BEGIN:VEVENT
DTSTART;VALUE=DATE:20210909
DTEND;VALUE=DATE:20210913
DTSTAMP:20260420T215648
CREATED:20210223T200541Z
LAST-MODIFIED:20210611T132205Z
UID:5827-1631145600-1631491199@nwta.com
SUMMARY:Cantigny
DESCRIPTION:Cantigny Park\, home of the First Division Museum and more\, hosts us yearly for one of our largest annual events.  Two daily tactical demonstrations\, artillery fire\, and more.  Admission is free with $10 parking and includes access to the entire park and museums.
URL:https://nwta.com/event/cantigny-4/
LOCATION:Cantigny Park\, 1S151 Winfield Rd\, Wheaton\, 60189\, United States
ORGANIZER;CN="North West Territory Alliance - NWTA":MAILTO:noreply@facebookmail.com
END:VEVENT
BEGIN:VEVENT
DTSTART;VALUE=DATE:20210814
DTEND;VALUE=DATE:20210816
DTSTAMP:20260420T215648
CREATED:20210223T200444Z
LAST-MODIFIED:20210223T200444Z
UID:5825-1628899200-1629071999@nwta.com
SUMMARY:Revolution on the Ohio Frontier
DESCRIPTION:Fort Meigs hosts the Revolution! Revolutionary War soldiers come to Fort Meigs to recreate life in early America with battles\, weapon demonstrations\, and more. Visit the army encampments and talk to the soldiers about life in early America. \nVisit http://www.fortmeigs.org/revolution for more information
URL:https://nwta.com/event/revolution-on-the-ohio-frontier-5/
LOCATION:Fort Meigs: Ohio’s War of 1812 Battlefield\, 29100 W River Rd\, Perrysburg\, 43551\, United States
ORGANIZER;CN="North West Territory Alliance - NWTA":MAILTO:noreply@facebookmail.com
END:VEVENT
BEGIN:VEVENT
DTSTART;VALUE=DATE:20210529
DTEND;VALUE=DATE:20210531
DTSTAMP:20260420T215648
CREATED:20210223T200140Z
LAST-MODIFIED:20210223T200140Z
UID:5820-1622246400-1622419199@nwta.com
SUMMARY:Spirit of Vincennes
DESCRIPTION:Our event season kicks off with an encampment on the historic site of the battle of Vincennes. Just across the road in the French Commons\, enjoy food\, entertainment\, and of course daily battle recreations\, artillery demonstrations\, and more! \nAdmission is charged for the French Commons \nSchedule and information at: https://www.spiritofvincennes.org
URL:https://nwta.com/event/spirit-of-vincennes-5/
LOCATION:George Rogers Clark National Historical Park\, 401 S 2nd St\, Vincennes\, 47591-1001\, United States
ORGANIZER;CN="North West Territory Alliance - NWTA":MAILTO:noreply@facebookmail.com
END:VEVENT
BEGIN:VEVENT
DTSTART;VALUE=DATE:20200815
DTEND;VALUE=DATE:20200817
DTSTAMP:20260420T215648
CREATED:20200106T205918Z
LAST-MODIFIED:20200106T210532Z
UID:5754-1597449600-1597622399@nwta.com
SUMMARY:Revolution on the Ohio Frontier
DESCRIPTION:Fort Meigs hosts the Revolution! Revolutionary War soldiers come to Fort Meigs to recreate life in early America with battles\, weapon demonstrations\, and more. Visit the army encampments and talk to the soldiers about life in early America. \nVisit http://www.fortmeigs.org/revolution for more information
URL:https://nwta.com/event/revolution-on-the-ohio-frontier-4/
LOCATION:Fort Meigs: Ohio’s War of 1812 Battlefield\, 29100 W River Rd\, Perrysburg\, 43551\, United States
ATTACH;FMTTYPE=image/jpeg:https://nwta.com/wp-content/uploads/2020/01/ft-meigs.jpg
ORGANIZER;CN="North West Territory Alliance - NWTA":MAILTO:noreply@facebookmail.com
END:VEVENT
BEGIN:VEVENT
DTSTART;TZID=America/Chicago:20200307T090000
DTEND;TZID=America/Chicago:20200307T140000
DTSTAMP:20260420T215648
CREATED:20191216T115024Z
LAST-MODIFIED:20191216T115024Z
UID:5735-1583571600-1583589600@nwta.com
SUMMARY:NWTA Board Meeting
DESCRIPTION:
URL:https://nwta.com/event/nwta-board-meeting/
LOCATION:New Life Christian Reformed Church\, 3010 Ridge Rd\, Highland\, IN\, 46322\, United States
END:VEVENT
BEGIN:VEVENT
DTSTART;VALUE=DATE:20191018
DTEND;VALUE=DATE:20191021
DTSTAMP:20260420T215648
CREATED:20190301T012446Z
LAST-MODIFIED:20190301T013044Z
UID:5690-1571425200-1571597999@nwta.com
SUMMARY:Revolution at Dollinger Farm
DESCRIPTION:Family fun and education come together at Dollinger Family Farm for our annual Revolutionary War Event here!  Enjoy the fall atmosphere\, wander through our camp and meet soldiers\, women\, and children (and horses!)\, and witness artillery fire and battle demonstration. \nMore information at: https://www.dollingerfarms.com/revolutionary-war  \nhttps://www.facebook.com/events/289570931713828/
URL:https://nwta.com/event/revolution-at-dollinger-farm/
LOCATION:Dollinger Family Farm\, 7420 E Hansel Rd\, Channahon\, 60410\, United States
END:VEVENT
BEGIN:VEVENT
DTSTART;VALUE=DATE:20191004
DTEND;VALUE=DATE:20191007
DTSTAMP:20260420T215648
CREATED:20190301T012444Z
LAST-MODIFIED:20190301T012953Z
UID:5687-1570215600-1570388399@nwta.com
SUMMARY:Feast of the Hunter's Moon
DESCRIPTION:The annual Feast of the Hunter’s Moon returns\, with many recurring favorites\, such as fife and drum corps\, festival grounds with food and drink\, voyageurs\, and the participation of the NWTA’s Revolutionary War reenactors\, as well. \nAdmission charged; daily admission or weekend buttons available. \nhttp://www.tcha.mus.in.us/feast.htm \nhttps://www.facebook.com/events/1084149711776404/
URL:https://nwta.com/event/feast-of-the-hunters-moon-5/
LOCATION:Fort Ouiatenon\, 3129 S River Rd\, West Lafayette\, 47906\, United States
END:VEVENT
BEGIN:VEVENT
DTSTART;VALUE=DATE:20190927
DTEND;VALUE=DATE:20190930
DTSTAMP:20260420T215648
CREATED:20190301T012442Z
LAST-MODIFIED:20190908T201256Z
UID:5685-1569610800-1569783599@nwta.com
SUMMARY:Vermilion Valley Encampment
DESCRIPTION:Lose yourself in history in the midst of a huge nature preserve! With no modern intrusions\, this site and our interpreters have a unique opportunity to present the camp life and military maneuvers of the American Revolution.  Past events held here have included competitions\, special readings and demonstrations\, and horses! \nEvent is FREE! \nhttps://www.facebook.com/events/362785964575492/
URL:https://nwta.com/event/vermilion-valley-encampment-3/
LOCATION:Forest Glen Nature Preserve\, 20301 E 900 North Rd\, Westville\, IL\, 61883\, United States
END:VEVENT
BEGIN:VEVENT
DTSTART;VALUE=DATE:20190907
DTEND;VALUE=DATE:20190909
DTSTAMP:20260420T215648
CREATED:20190301T012439Z
LAST-MODIFIED:20190301T012743Z
UID:5681-1567882800-1567969199@nwta.com
SUMMARY:Revolutionary War at Cantigny Park
DESCRIPTION:Just outside Chicago in Wheaton\, IL\, we partner with Cantigny Park to present the sights and sounds of the American Revolution! Meet colonial\, British\, French\, and German troops\, see artillery and horses in action\, and talk to our living history interpreters about daily life during the Revolution. \nEvent is free with $10 per car parking. Enjoy the First Division Museum\, Robert McCormick House\, and the extensive gardens\, all included. \nhttps://cantigny.org \nhttps://www.facebook.com/events/2247079945503642/
URL:https://nwta.com/event/revolutionary-war-at-cantigny-park/
LOCATION:Cantigny Park\, 1S151 Winfield Rd\, Wheaton\, 60189\, United States
END:VEVENT
BEGIN:VEVENT
DTSTART;VALUE=DATE:20190823
DTEND;VALUE=DATE:20190826
DTSTAMP:20260420T215648
CREATED:20190301T012438Z
LAST-MODIFIED:20190301T012537Z
UID:5678-1566586800-1566759599@nwta.com
SUMMARY:Revolution on the Ohio Frontier
DESCRIPTION:In cooperation with our sister organization\, the BAR Northwest\, we occupy the fort for the weekend! See demonstrations of military life in the fort\, battle recreations\, and more in this historic atmosphere.  \nhttps://www.fortmeigs.org \nhttps://www.facebook.com/events/772065973174616/
URL:https://nwta.com/event/revolution-on-the-ohio-frontier-3/
LOCATION:Fort Meigs: Ohio’s War of 1812 Battlefield\, 29100 W River Rd\, Perrysburg\, 43551\, United States
END:VEVENT
BEGIN:VEVENT
DTSTART;VALUE=DATE:20190524
DTEND;VALUE=DATE:20190527
DTSTAMP:20260420T215648
CREATED:20190301T011503Z
LAST-MODIFIED:20190301T011835Z
UID:5669-1558724400-1558897199@nwta.com
SUMMARY:Spirit of Vincennes
DESCRIPTION:Our event season kicks off with an encampment on the historic site of the battle of Vincennes. Just across the road in the French Commons\, enjoy food\, entertainment\, and of course daily battle recreations\, artillery demonstrations\, and more! \nAdmission is charged for the French Commons \nSchedule and information at: https://www.spiritofvincennes.org \nhttps://www.facebook.com/events/402625970554904/
URL:https://nwta.com/event/spirit-of-vincennes-4/
LOCATION:George Rogers Clark National Historical Park\, 401 S 2nd St\, Vincennes\, 47591-1001\, United States
ORGANIZER;CN="North West Territory Alliance - NWTA":MAILTO:noreply@facebookmail.com
END:VEVENT
BEGIN:VEVENT
DTSTART;TZID=America/Chicago:20181013T090000
DTEND;TZID=America/Chicago:20181014T150000
DTSTAMP:20260420T215648
CREATED:20180201T011636Z
LAST-MODIFIED:20180329T012258Z
UID:5027-1539421200-1539529200@nwta.com
SUMMARY:Dollinger Farm
DESCRIPTION:Family fun and education come together at Dollinger Family Farm for our annual Revolutionary War Event here!  Enjoy the fall atmosphere\, wander through our camp and meet soldiers\, women\, and children (and horses!)\, and witness artillery fire and battle demonstration. \nMore information at: https://www.dollingerfarms.com/revolutionary-war
URL:https://nwta.com/event/dollinger-farm-2/
LOCATION:Dollinger Family Farm\, 7420 E Hansel Rd\, Channahon\, IL\, 60410\, United States
ATTACH;FMTTYPE=image/jpeg:https://nwta.com/wp-content/uploads/2018/03/623e7ecb379aa97d55b44b4b7df69699.jpg
END:VEVENT
BEGIN:VEVENT
DTSTART;TZID=America/Chicago:20181006T080000
DTEND;TZID=America/Chicago:20181007T140000
DTSTAMP:20260420T215648
CREATED:20180201T011637Z
LAST-MODIFIED:20180329T012258Z
UID:5029-1538812800-1538920800@nwta.com
SUMMARY:Feast of the Hunter's Moon
DESCRIPTION:The NWTA continues its participation in the Feast of the Hunter’s Moon tradition! Between enjoying an apple dumpling or other treat from the many nonprofit food booths and catching a performance of the fife and drum corps\, visit the NWTA camp to learn about 18th century life. Military and civilian participants will share about life during the American Revolution. \nAdmission\, parking\, and other information at http://feastofthehuntersmoon.org
URL:https://nwta.com/event/feast-of-the-hunters-moon-4/
LOCATION:Fort Ouiatenon\, 3129 S River Rd\, West Lafayette\, IN\, 47906\, United States
ATTACH;FMTTYPE=image/jpeg:https://nwta.com/wp-content/uploads/2018/03/69fd76af5006c15bef42a2d5a7f59f4e-1.jpg
END:VEVENT
BEGIN:VEVENT
DTSTART;TZID=America/Chicago:20180922T090000
DTEND;TZID=America/Chicago:20180923T150000
DTSTAMP:20260420T215648
CREATED:20180201T011638Z
LAST-MODIFIED:20180329T012258Z
UID:5034-1537606800-1537714800@nwta.com
SUMMARY:Vermilion Valley Encampment
DESCRIPTION:Step back in time with the NWTA at a quiet\, forested park site! Daily tactical demonstrations\, horses\, and more.  Visit the military camps and learn about the soldiers\, civilians\, and even equines who participated in America’s war for independence.  Free admission.
URL:https://nwta.com/event/vermilion-valley-encampment/
LOCATION:Forest Glen Preserve\, 900 E\, Vermilion\, IL\, 61834\, United States
ATTACH;FMTTYPE=image/jpeg:https://nwta.com/wp-content/uploads/2018/03/9c5b414437e367e9f5e0e73a9b9177a7.jpg
END:VEVENT
BEGIN:VEVENT
DTSTART;TZID=America/Chicago:20180908T090000
DTEND;TZID=America/Chicago:20180909T150000
DTSTAMP:20260420T215649
CREATED:20180201T011640Z
LAST-MODIFIED:20180201T011640Z
UID:5039-1536397200-1536505200@nwta.com
SUMMARY:Cantigny
DESCRIPTION:Cantigny Park\, home of the First Division Museum and more\, hosts us yearly for one of our largest annual events.  Two daily tactical demonstrations\, artillery fire\, and more.  Admission is free with $10 parking and includes access to the entire park and museums. \nMore at: https://cantigny.org/event/revolutionary-war-reenactment/2017-09-10/
URL:https://nwta.com/event/cantigny-3/
LOCATION:Cantigny Park\, 1S151 Winfield Rd\, Wheaton\, 60189\, United States
ATTACH;FMTTYPE=image/jpeg:https://nwta.com/wp-content/uploads/2018/01/7b36a96912ef7c6f5f11ce759d101523-1.jpg
END:VEVENT
BEGIN:VEVENT
DTSTART;TZID=America/Chicago:20180825T080000
DTEND;TZID=America/Chicago:20180826T140000
DTSTAMP:20260420T215649
CREATED:20180201T011641Z
LAST-MODIFIED:20180201T011641Z
UID:5043-1535184000-1535292000@nwta.com
SUMMARY:Revolution on the Ohio Frontier
DESCRIPTION:We partner with our sister organization\, the Brigade of the American Revolution Northwest Department\, to present this event in beautiful Fort Meigs!  \nDirections\, site info and more at: http://www.fortmeigs.org/revolution/
URL:https://nwta.com/event/revolution-on-the-ohio-frontier-2/
LOCATION:Fort Meigs: Ohio’s War of 1812 Battlefield\, 29100 W River Rd\, Perrysburg\, 43551\, United States
ATTACH;FMTTYPE=image/jpeg:https://nwta.com/wp-content/uploads/2018/01/299b31f3f770386ffbde2cfd41e4e8c5.jpg
END:VEVENT
BEGIN:VEVENT
DTSTART;TZID=America/Chicago:20180609T090000
DTEND;TZID=America/Chicago:20180610T150000
DTSTAMP:20260420T215649
CREATED:20180130T201627Z
LAST-MODIFIED:20191217T205345Z
UID:5022-1528534800-1528642800@nwta.com
SUMMARY:Rebels and Redcoats
DESCRIPTION:This event continues to experiment with new interpretive features like an 18th century earthen camp kitchen! Join us for an educational weekend in a beautiful park setting.
URL:https://nwta.com/event/rebels-and-redcoats-3/
LOCATION:Petrifying Springs Park\, 761 Green Bay Rd\, Kenosha\, WI\, 53144\, United States
ATTACH;FMTTYPE=image/jpeg:https://nwta.com/wp-content/uploads/2018/03/996f7819fb15fff17ab2dfbcf000f130.jpg
END:VEVENT
BEGIN:VEVENT
DTSTART;TZID=America/Chicago:20180526T080000
DTEND;TZID=America/Chicago:20180527T150000
DTSTAMP:20260420T215649
CREATED:20180130T201628Z
LAST-MODIFIED:20180329T012623Z
UID:5024-1527321600-1527433200@nwta.com
SUMMARY:Spirit of Vincennes
DESCRIPTION:Our event season begins with the Spirit of Vincennes\, one of our largest events featuring encampments\, battle\, artillery\, and horse demonstrations\, and a festival area with food\, entertainment\, and activities for the whole family. On the historic site of Fort Sackville\, now the George Rogers Clark National Historic Park. \nThe George Rogers Clark National Historical Park and the Spirit of Vincennes\, Inc. join with the N.W.T.A. for this regional event. The 8th Regiment of Foot proudly serves as host unit. \nAdmission charged for festival grounds; free to walk the NWTA military encampment on National Park grounds. \nSee http://spiritofvincennes.org for additional information and the schedule of events.
URL:https://nwta.com/event/spirit-of-vincennes-3/
LOCATION:George Rogers Clark National Historical Park\, 401 S 2nd St\, Vincennes\, 47591-1001\, United States
ATTACH;FMTTYPE=image/jpeg:https://nwta.com/wp-content/uploads/2018/03/8853356bf078b1befa0a51ddfa3739e9.jpg
END:VEVENT
BEGIN:VEVENT
DTSTART;TZID=America/Chicago:20171007T090000
DTEND;TZID=America/Chicago:20171008T150000
DTSTAMP:20260420T215649
CREATED:20170202T210810Z
LAST-MODIFIED:20170921T014539Z
UID:4790-1507366800-1507474800@nwta.com
SUMMARY:Battle of Dollinger Farm
DESCRIPTION:We return to Dollinger Family Farm\, where our historical programming complements family-friendly activities at the farm’s pumpkin patch!  Admission charged for battle demonstration; come visit our active and educational encampment free. \nParticipant Info:\nReenactor competitions of skill with prizes!\nSaturday dinner provided for registered participants!\nVarious 1st person demonstration opportunities!\nBoth armies will have to contend with an expanded spy ring from last year!  \nRegister online at http://www.1stdragoons.com/copy-of-dollinger-farm-event-page   \nThe Dollinger Family Farm is located at 7420 E Hansel Rd\, Channahon\, IL 60410
URL:https://nwta.com/event/battle-of-dollinger-farm/
LOCATION:Dollinger Family Farm\, 7420 E Hansel Rd\, Channahon\, IL\, 60410\, United States
ATTACH;FMTTYPE=image/jpeg:https://nwta.com/wp-content/uploads/2017/09/3fb60fb9b96ccf40b478c28d16d70923-1.jpg
END:VEVENT
BEGIN:VEVENT
DTSTART;TZID=America/Chicago:20170930T080000
DTEND;TZID=America/Chicago:20171001T150000
DTSTAMP:20260420T215649
CREATED:20170202T210808Z
LAST-MODIFIED:20170921T014538Z
UID:4788-1506758400-1506870000@nwta.com
SUMMARY:Feast of the Hunter's Moon
DESCRIPTION:The 50th annual Feast of the Hunter’s Moon takes place this year\, with many recurring favorites\, such as fife and drum corps\, festival grounds with food and drink\, voyageurs\, and the participation of the NWTA’s Revolutionary War reenactors\, as well. \nhttp://www.tcha.mus.in.us/feast.htm \nPARTICIPANTS: Register BY UNIT at qr1780@sbcglobal.net.  Include tentage requirements.
URL:https://nwta.com/event/feast-of-the-hunters-moon-3/
LOCATION:Fort Ouiatenon\, 3129 S River Rd\, West Lafayette\, IN\, 47906\, United States
ATTACH;FMTTYPE=image/jpeg:https://nwta.com/wp-content/uploads/2017/09/59d5accd48d36b0d67c841efd5452309-1.jpg
END:VEVENT
BEGIN:VEVENT
DTSTART;TZID=America/Chicago:20170923T090000
DTEND;TZID=America/Chicago:20170924T150000
DTSTAMP:20260420T215649
CREATED:20170202T210805Z
LAST-MODIFIED:20191217T034356Z
UID:4786-1506157200-1506265200@nwta.com
SUMMARY:Vermilion Valley Encampment at Forest Glen Preserve
DESCRIPTION:Lose yourself in history in the midst of a huge nature preserve! With no modern intrusions\, this site and our interpreters have a unique opportunity to present the camp life and military maneuvers of the American Revolution.  Past events held here have included competitions\, special readings and demonstrations\, and horses! \nMembers: Please register by unit with Jo Peelman of Worthington’s Company at jopeelman@gmail.com \nPARTICIPANTS: Once again at Forest Glen\, we’ll be holding a camp demonstration competition!\nThe prize: A $50 gift certificate to Townsends.\nYour demonstration can be what you want it to be: a hands-on presentation\, a ropeline discussion\, a first person interpretation\, etc.\nEach contestant will be given a short time slot (about 10 minutes) when the judges will make sure to be watching. Judging times begin Saturday at 1:00pm. Slots are filled on a first come\, first serve basis. Reserve your time now. Contact Jo Peelman atjopeelman@gmail.com.
URL:https://nwta.com/event/vermilion-valley-encampment-at-forest-glen-preserve-2/
LOCATION:Forest Glen Nature Preserve\, 20301 E 900 North Rd.\, Westville\,\, IL\, 61883\, United States
ATTACH;FMTTYPE=image/jpeg:https://nwta.com/wp-content/uploads/2017/09/2bbc5967d5d5793ef7d3ae3f8bba16bc-1.jpg
END:VEVENT
BEGIN:VEVENT
DTSTART;TZID=America/Chicago:20170909T090000
DTEND;TZID=America/Chicago:20170910T150000
DTSTAMP:20260420T215649
CREATED:20170202T210803Z
LAST-MODIFIED:20170202T210803Z
UID:4784-1504947600-1505055600@nwta.com
SUMMARY:Revolutionary War Reenactment at Cantigny Park
DESCRIPTION:One of our largest events draws thousands to Cantigny Park in Wheaton\, IL\, to view camp life\, battle demonstrations\, and artillery–and explore the gardens and museums also located within the park grounds.  Free admission with parking fee. \nhttp://cantigny.org/calendar/signature-events/revolutionary-war-reenactment
URL:https://nwta.com/event/revolutionary-war-reenactment-at-cantigny-park/
LOCATION:Cantigny Park\, 1S151 Winfield Rd\, Wheaton\, 60189\, United States
ATTACH;FMTTYPE=image/jpeg:https://nwta.com/wp-content/uploads/2017/02/facebook_event_205963796537783.jpg
ORGANIZER;CN="North West Territory Alliance - NWTA":MAILTO:noreply@facebookmail.com
END:VEVENT
BEGIN:VEVENT
DTSTART;TZID=America/Chicago:20170819T080000
DTEND;TZID=America/Chicago:20170820T140000
DTSTAMP:20260420T215649
CREATED:20170202T210800Z
LAST-MODIFIED:20170202T210800Z
UID:4781-1503129600-1503237600@nwta.com
SUMMARY:Fort Meigs NWTA BAR Joint Event
DESCRIPTION:The NWTA and its sister organization to the east\, the BAR Northwest Department\, team up for an event at Ohio’s historic Fort Meigs.   \nhttp://www.fortmeigs.org/
URL:https://nwta.com/event/fort-meigs-nwta-bar-joint-event/
LOCATION:Fort Meigs: Ohio’s War of 1812 Battlefield\, 29100 W River Rd\, Perrysburg\, 43551\, United States
ATTACH;FMTTYPE=image/jpeg:https://nwta.com/wp-content/uploads/2017/02/facebook_event_1722188321353739.jpg
ORGANIZER;CN="North West Territory Alliance - NWTA":MAILTO:noreply@facebookmail.com
END:VEVENT
BEGIN:VEVENT
DTSTART;TZID=America/Chicago:20170624T080000
DTEND;TZID=America/Chicago:20170625T140000
DTSTAMP:20260420T215649
CREATED:20170202T210757Z
LAST-MODIFIED:20170202T210757Z
UID:4778-1498291200-1498399200@nwta.com
SUMMARY:Battle of Sunset Lake
DESCRIPTION:Experience the sights and sounds of the American Revolution!
URL:https://nwta.com/event/battle-of-sunset-lake/
LOCATION:Prudential Nursery\, 13038 S 24th St\, Vicksburg\, MI\, 49097\, United States
ATTACH;FMTTYPE=image/jpeg:https://nwta.com/wp-content/uploads/2017/02/facebook_event_590488471140119.jpg
ORGANIZER;CN="North West Territory Alliance - NWTA":MAILTO:noreply@facebookmail.com
END:VEVENT
BEGIN:VEVENT
DTSTART;TZID=America/Chicago:20170610T090000
DTEND;TZID=America/Chicago:20170611T150000
DTSTAMP:20260420T215649
CREATED:20170202T210754Z
LAST-MODIFIED:20191218T081130Z
UID:4775-1497085200-1497193200@nwta.com
SUMMARY:Rebels and Redcoats
DESCRIPTION:Last year we had horse demonstrations\, an earthen camp kitchen\, and more–we expect more new historical interpretation at this year’s Rebels and Redcoats event! \nhttps://www.facebook.com/groups/146823678724430/
URL:https://nwta.com/event/rebels-and-redcoats-2/
LOCATION:Petrifying Springs Park\, 761 Green Bay Rd\, Kenosha\, WI\, 53144\, United States
ATTACH;FMTTYPE=image/jpeg:https://nwta.com/wp-content/uploads/2017/02/facebook_event_1023717831067527.jpg
ORGANIZER;CN="North West Territory Alliance - NWTA":MAILTO:noreply@facebookmail.com
END:VEVENT
BEGIN:VEVENT
DTSTART;TZID=America/Chicago:20170527T080000
DTEND;TZID=America/Chicago:20170528T150000
DTSTAMP:20260420T215649
CREATED:20170202T210751Z
LAST-MODIFIED:20191216T122741Z
UID:4772-1495872000-1495983600@nwta.com
SUMMARY:Spirit of Vincennes
DESCRIPTION:
URL:https://nwta.com/event/spirit-of-vincennes-2/
LOCATION:George Rogers Clark National Historical Park\, 401 S 2nd St\, Vincennes\, IN\, 47591-1001\, United States
ATTACH;FMTTYPE=image/jpeg:https://nwta.com/wp-content/uploads/2017/02/facebook_event_1363181813746602.jpg
ORGANIZER;CN="North West Territory Alliance - NWTA":MAILTO:noreply@facebookmail.com
END:VEVENT
BEGIN:VEVENT
DTSTART;TZID=America/Chicago:20161029T080000
DTEND;TZID=America/Chicago:20161030T170000
DTSTAMP:20260420T215649
CREATED:20160918T151502Z
LAST-MODIFIED:20191218T145208Z
UID:4599-1477728000-1477846800@nwta.com
SUMMARY:Locust Grove Market Fair - NON NWTA
DESCRIPTION:The NWTA has formally been invited to Locust Grove Market Fair  \nFrom the sponsor:\nAny unit or individual with current membership in the NWTA (or BAR\, Continental Line\, or British Brigade) are invited\, encouraged to come\, and I am more than happy to speak with anyone who needs further information\, special accommodations\, etc. I want to be sure anyone who has been here in the past continues to feel welcome at (and looks forward to coming to) Locust Grove and that\, hopefully\, we can introduce the site and event to even more people in the Rev War community. \nRegistration can be found at: https://lghh.wufoo.com/forms/q409tyt15633kt/
URL:https://nwta.com/event/locust-grove-market-fair-non-nwta/
LOCATION:Locust Grove – Historic Locust Grove\, Inc.\, 561 Blankenbaker Ln\, Louisville\, KY\, 40207\, United States
ORGANIZER;CN="North West Territory Alliance - NWTA":MAILTO:noreply@facebookmail.com
END:VEVENT
BEGIN:VEVENT
DTSTART;TZID=America/Chicago:20161008T090000
DTEND;TZID=America/Chicago:20161009T150000
DTSTAMP:20260420T215649
CREATED:20160114T025136Z
LAST-MODIFIED:20191216T123844Z
UID:4558-1475917200-1476025200@nwta.com
SUMMARY:Revolutionary War At Dollinger Farm
DESCRIPTION:For the second year\, the NWTA will be at Dollinger Family farm in Channahon\, IL. The farm is open for pumpkin picking and fall fun\, as well. Visiting our wooded camping area is free for the public (there is a charge to watch the battle). \nMore information about the event can be found at the 1st Dragoons website. Registration is by UNIT and can be done at the 1st Dragoons website as well. http://www.1stdragoons.com/#!dollinger-farm-event-page/swo3w  \nMore at http://www.dollingerfarms.com/index.php
URL:https://nwta.com/event/revolutionary-war-at-dollinger-farm/
LOCATION:Dollinger Family Farm\, 7420 E Hansel Rd\, Channahon\, 60410\, United States
ATTACH;FMTTYPE=image/jpeg:https://nwta.com/wp-content/uploads/2016/01/dollinger.jpg
ORGANIZER;CN="North West Territory Alliance - NWTA":MAILTO:noreply@facebookmail.com
END:VEVENT
BEGIN:VEVENT
DTSTART;TZID=America/Chicago:20161001T070000
DTEND;TZID=America/Chicago:20161002T140000
DTSTAMP:20260420T215649
CREATED:20160114T025134Z
LAST-MODIFIED:20191217T191717Z
UID:4556-1475305200-1475416800@nwta.com
SUMMARY:Feast of the Hunter's Moon
DESCRIPTION:For decades\, the NWTA has participated in Fort Ouiatenon’s annual fall festival. Join us this year as we provide educational programming…and visit the hundreds of vendors and food booths. Apple dumpling\, anyone? Entermainment includes live music\, dance demonstrations\, and fife and drum corps. \nMore\, including ticket infomation and schedules\, at http://www.tcha.mus.in.us/feast.htm \nRegistration form
URL:https://nwta.com/event/feast-of-the-hunters-moon/
LOCATION:Fort Ouiatenon\, 3129 S River Rd\, West Lafayette\, 47906\, United States
ATTACH;FMTTYPE=image/jpeg:https://nwta.com/wp-content/uploads/2016/01/feast.jpg
ORGANIZER;CN="North West Territory Alliance - NWTA":MAILTO:noreply@facebookmail.com
END:VEVENT
END:VCALENDAR