BEGIN:VCALENDAR
VERSION:2.0
PRODID:-//NWTA - ECPv6.15.17.1//NONSGML v1.0//EN
CALSCALE:GREGORIAN
METHOD:PUBLISH
X-WR-CALNAME:NWTA
X-ORIGINAL-URL:https://nwta.com
X-WR-CALDESC:Events for NWTA
REFRESH-INTERVAL;VALUE=DURATION:PT1H
X-Robots-Tag:noindex
X-PUBLISHED-TTL:PT1H
BEGIN:VTIMEZONE
TZID:America/Chicago
BEGIN:DAYLIGHT
TZOFFSETFROM:-0600
TZOFFSETTO:-0500
TZNAME:CDT
DTSTART:20140309T080000
END:DAYLIGHT
BEGIN:STANDARD
TZOFFSETFROM:-0500
TZOFFSETTO:-0600
TZNAME:CST
DTSTART:20141102T070000
END:STANDARD
BEGIN:DAYLIGHT
TZOFFSETFROM:-0600
TZOFFSETTO:-0500
TZNAME:CDT
DTSTART:20150308T080000
END:DAYLIGHT
BEGIN:STANDARD
TZOFFSETFROM:-0500
TZOFFSETTO:-0600
TZNAME:CST
DTSTART:20151101T070000
END:STANDARD
BEGIN:DAYLIGHT
TZOFFSETFROM:-0600
TZOFFSETTO:-0500
TZNAME:CDT
DTSTART:20160313T080000
END:DAYLIGHT
BEGIN:STANDARD
TZOFFSETFROM:-0500
TZOFFSETTO:-0600
TZNAME:CST
DTSTART:20161106T070000
END:STANDARD
END:VTIMEZONE
BEGIN:VEVENT
DTSTART;VALUE=DATE:20151002
DTEND;VALUE=DATE:20151004
DTSTAMP:20260421T183903
CREATED:20150928T150344Z
LAST-MODIFIED:20191219T021735Z
UID:4408-1443812400-1443898799@nwta.com
SUMMARY:Feast of the Hunter's Moon
DESCRIPTION:The Feast of the Hunters’ Moon is a re-creation of the annual fall gathering of the French and Native Americans which took place Fort Ouiatenon\, a fur-trading outpost in the mid – 1700s. It is held annually in early autumn on the banks of the Wabash River\, four miles southwest of West Lafayette\, Indiana.
URL:https://nwta.com/event/feast-of-the-hunters-moon-2/
LOCATION:Fort Ouiatenon Park\, 3129 S River Rd\, West Lafayette\, IN\, 47906\, United States
ATTACH;FMTTYPE=image/jpeg:https://nwta.com/wp-content/uploads/2015/09/facebook_event_406413672816958.jpg
ORGANIZER;CN="North West Territory Alliance - NWTA":MAILTO:noreply@facebookmail.com
END:VEVENT
BEGIN:VEVENT
DTSTART;VALUE=DATE:20150926
DTEND;VALUE=DATE:20150928
DTSTAMP:20260421T183903
CREATED:20150916T025336Z
LAST-MODIFIED:20191219T022845Z
UID:4367-1443225600-1443398399@nwta.com
SUMMARY:Forest Glen Preserve 2015
DESCRIPTION:Participants and visitors alike can immerse themselves in an atmosphere free from modern interruption at quiet\, wooded Forest Glen preserve.  Reenactors portraying British and rebellious forces take the field daily for demonstrations of their tactical prowess–who will win each battle? \nReenactors are invited to participate in bayonet and tomahawk throwing competitions\, with prizes for the winners.  In the evening\, reenactors may gather in the tavern (a recreated log building) for cards and music. \nThe daily schedule can be found here: Forest Glen 2015 Schedule \nReenactors: Registration by unit.  Unit commanders\, call Charlie Rhoden at 217-662-8757 with number and type of tents you will be bringing.  Leaving a message is fine.  Please register by September 18. \n 
URL:https://nwta.com/event/forest-glen-preserve/
LOCATION:Forest Glen Preserve\, 900 E\, Vermilion\, IL\, 61834\, United States
END:VEVENT
END:VCALENDAR