BEGIN:VCALENDAR
VERSION:2.0
PRODID:-//NWTA - ECPv6.15.17.1//NONSGML v1.0//EN
CALSCALE:GREGORIAN
METHOD:PUBLISH
X-ORIGINAL-URL:https://nwta.com
X-WR-CALDESC:Events for NWTA
REFRESH-INTERVAL;VALUE=DURATION:PT1H
X-Robots-Tag:noindex
X-PUBLISHED-TTL:PT1H
BEGIN:VTIMEZONE
TZID:America/Chicago
BEGIN:DAYLIGHT
TZOFFSETFROM:-0600
TZOFFSETTO:-0500
TZNAME:CDT
DTSTART:20200308T080000
END:DAYLIGHT
BEGIN:STANDARD
TZOFFSETFROM:-0500
TZOFFSETTO:-0600
TZNAME:CST
DTSTART:20201101T070000
END:STANDARD
BEGIN:DAYLIGHT
TZOFFSETFROM:-0600
TZOFFSETTO:-0500
TZNAME:CDT
DTSTART:20210314T080000
END:DAYLIGHT
BEGIN:STANDARD
TZOFFSETFROM:-0500
TZOFFSETTO:-0600
TZNAME:CST
DTSTART:20211107T070000
END:STANDARD
BEGIN:DAYLIGHT
TZOFFSETFROM:-0600
TZOFFSETTO:-0500
TZNAME:CDT
DTSTART:20220313T080000
END:DAYLIGHT
BEGIN:STANDARD
TZOFFSETFROM:-0500
TZOFFSETTO:-0600
TZNAME:CST
DTSTART:20221106T070000
END:STANDARD
END:VTIMEZONE
BEGIN:VEVENT
DTSTART;VALUE=DATE:20211009
DTEND;VALUE=DATE:20211011
DTSTAMP:20260423T070016
CREATED:20210611T142421Z
LAST-MODIFIED:20210611T142421Z
UID:5848-1633737600-1633910399@nwta.com
SUMMARY:Feast of the Hunters Moon
DESCRIPTION:The NWTA continues its participation in the Feast of the Hunter’s Moon tradition! Between enjoying an apple dumpling or other treat from the many nonprofit food booths and catching a performance of the fife and drum corps\, visit the NWTA camp to learn about 18th century life. Military and civilian participants will share about life during the American Revolution. \nAdmission\, parking\, and other information at http://feastofthehuntersmoon.org \nFOR NWTA MEMBERS\nAll NWTA units who wish to attend the Feast of the Hunter’s Moon wether day tripping\, military camping\, or modern camping on site must submit a completed NWTA Feast Registration 2021 in order to receive a participant button. \nNWTA Feast Registration 2021\n2021 Feast Application \nRegistrations may be submitted by mail\, email or phone to Thomas Langenfeld\, 1261 Columbia St.\, Crete\, IL 60417 Cell 708-828-1698\, Email qr1780@sbcglobal.net.  \nDeadline for NWTA participant registration is 9/26/2021 \nIndividuals who wish to utilize modern camping at the Feast should mail a completed “2021 Feast Application” Sections 4\, 6 and 7 and\, fees by mail to: TCHA\, 1001 South Street\, Lafayette\, IN 47901. \nDeadline for Military for modern camping is 8/15/2021.
URL:https://nwta.com/event/feast-of-the-hunters-moon-6/
LOCATION:Fort Ouiatenon Park\, 3129 S River Rd\, West Lafayette\, IN\, 47906\, United States
ATTACH;FMTTYPE=image/jpeg:https://nwta.com/wp-content/uploads/2017/09/59d5accd48d36b0d67c841efd5452309.jpg
ORGANIZER;CN="North West Territory Alliance - NWTA":MAILTO:noreply@facebookmail.com
END:VEVENT
END:VCALENDAR