BEGIN:VCALENDAR
VERSION:2.0
PRODID:-//NWTA - ECPv6.15.17.1//NONSGML v1.0//EN
CALSCALE:GREGORIAN
METHOD:PUBLISH
X-ORIGINAL-URL:https://nwta.com
X-WR-CALDESC:Events for NWTA
REFRESH-INTERVAL;VALUE=DURATION:PT1H
X-Robots-Tag:noindex
X-PUBLISHED-TTL:PT1H
BEGIN:VTIMEZONE
TZID:America/Chicago
BEGIN:DAYLIGHT
TZOFFSETFROM:-0600
TZOFFSETTO:-0500
TZNAME:CDT
DTSTART:20210314T080000
END:DAYLIGHT
BEGIN:STANDARD
TZOFFSETFROM:-0500
TZOFFSETTO:-0600
TZNAME:CST
DTSTART:20211107T070000
END:STANDARD
BEGIN:DAYLIGHT
TZOFFSETFROM:-0600
TZOFFSETTO:-0500
TZNAME:CDT
DTSTART:20220313T080000
END:DAYLIGHT
BEGIN:STANDARD
TZOFFSETFROM:-0500
TZOFFSETTO:-0600
TZNAME:CST
DTSTART:20221106T070000
END:STANDARD
BEGIN:DAYLIGHT
TZOFFSETFROM:-0600
TZOFFSETTO:-0500
TZNAME:CDT
DTSTART:20230312T080000
END:DAYLIGHT
BEGIN:STANDARD
TZOFFSETFROM:-0500
TZOFFSETTO:-0600
TZNAME:CST
DTSTART:20231105T070000
END:STANDARD
END:VTIMEZONE
BEGIN:VEVENT
DTSTART;VALUE=DATE:20221001
DTEND;VALUE=DATE:20221003
DTSTAMP:20260422T122604
CREATED:20220108T020701Z
LAST-MODIFIED:20220108T020701Z
UID:5876-1664582400-1664755199@nwta.com
SUMMARY:Feast of the Hunters Moon
DESCRIPTION:
URL:https://nwta.com/event/feast-of-the-hunters-moon-7/
LOCATION:Fort Ouiatenon Park\, 3129 S River Rd\, West Lafayette\, IN\, 47906\, United States
ORGANIZER;CN="North West Territory Alliance - NWTA":MAILTO:noreply@facebookmail.com
END:VEVENT
BEGIN:VEVENT
DTSTART;VALUE=DATE:20221008
DTEND;VALUE=DATE:20221010
DTSTAMP:20260422T122604
CREATED:20220623T153759Z
LAST-MODIFIED:20220817T172830Z
UID:5896-1665187200-1665359999@nwta.com
SUMMARY:CANCELED - A day in the American Revolution - Peoria
DESCRIPTION:Unfortunately this event had to be canceled. Please check out one of our other events.
URL:https://nwta.com/event/a-day-in-the-american-revolution-peoria/
LOCATION:Weaver Angus Farms\, 5806 W War Memorial Dr\, Peoria\, IL\, 61615\, United States
ORGANIZER;CN="North West Territory Alliance - NWTA":MAILTO:noreply@facebookmail.com
END:VEVENT
END:VCALENDAR