BEGIN:VCALENDAR
VERSION:2.0
PRODID:-//NWTA - ECPv6.15.17.1//NONSGML v1.0//EN
CALSCALE:GREGORIAN
METHOD:PUBLISH
X-WR-CALNAME:NWTA
X-ORIGINAL-URL:https://nwta.com
X-WR-CALDESC:Events for NWTA
REFRESH-INTERVAL;VALUE=DURATION:PT1H
X-Robots-Tag:noindex
X-PUBLISHED-TTL:PT1H
BEGIN:VTIMEZONE
TZID:America/Chicago
BEGIN:DAYLIGHT
TZOFFSETFROM:-0600
TZOFFSETTO:-0500
TZNAME:CDT
DTSTART:20240310T080000
END:DAYLIGHT
BEGIN:STANDARD
TZOFFSETFROM:-0500
TZOFFSETTO:-0600
TZNAME:CST
DTSTART:20241103T070000
END:STANDARD
BEGIN:DAYLIGHT
TZOFFSETFROM:-0600
TZOFFSETTO:-0500
TZNAME:CDT
DTSTART:20250309T080000
END:DAYLIGHT
BEGIN:STANDARD
TZOFFSETFROM:-0500
TZOFFSETTO:-0600
TZNAME:CST
DTSTART:20251102T070000
END:STANDARD
BEGIN:DAYLIGHT
TZOFFSETFROM:-0600
TZOFFSETTO:-0500
TZNAME:CDT
DTSTART:20260308T080000
END:DAYLIGHT
BEGIN:STANDARD
TZOFFSETFROM:-0500
TZOFFSETTO:-0600
TZNAME:CST
DTSTART:20261101T070000
END:STANDARD
END:VTIMEZONE
BEGIN:VEVENT
DTSTART;VALUE=DATE:20251011
DTEND;VALUE=DATE:20251013
DTSTAMP:20260420T110329
CREATED:20241223T192029Z
LAST-MODIFIED:20250918T172503Z
UID:6165-1760140800-1760313599@nwta.com
SUMMARY:Feast of the Hunters’ Moon
DESCRIPTION:Please download the document below\, fill it out and mail or email to: QR1780@sbcglobal.net \nFeast Registration Form \nThomas Langenfeld\n1261 Columbia St.\nCrete\, IL 60417-2133\nE-mail: QR1780@sbcglobal.net
URL:https://nwta.com/event/feast-of-the-hunters-moon-10/
LOCATION:Fort Ouiatenon Park\, 3129 S River Rd\, West Lafayette\, IN\, 47906\, United States
ORGANIZER;CN="North West Territory Alliance - NWTA":MAILTO:noreply@facebookmail.com
END:VEVENT
BEGIN:VEVENT
DTSTART;VALUE=DATE:20251025
DTEND;VALUE=DATE:20251027
DTSTAMP:20260420T110329
CREATED:20241109T020248Z
LAST-MODIFIED:20251020T002614Z
UID:6162-1761350400-1761523199@nwta.com
SUMMARY:Colonial Market Days
DESCRIPTION:Event Registration Form \nEvent Website:\nhttps://colonialmarketdays.com/ \nQuestions or more information please call:\n(317) 762-0117
URL:https://nwta.com/event/colonial-market-days-non-nwta/
LOCATION:Abner Longley Park\, 1601 Longley Dr\, Lebanon\, IN\, 46052\, United States
END:VEVENT
END:VCALENDAR