BEGIN:VCALENDAR
VERSION:2.0
PRODID:-//NWTA - ECPv6.15.17.1//NONSGML v1.0//EN
CALSCALE:GREGORIAN
METHOD:PUBLISH
X-WR-CALNAME:NWTA
X-ORIGINAL-URL:https://nwta.com
X-WR-CALDESC:Events for NWTA
REFRESH-INTERVAL;VALUE=DURATION:PT1H
X-Robots-Tag:noindex
X-PUBLISHED-TTL:PT1H
BEGIN:VTIMEZONE
TZID:America/Chicago
BEGIN:DAYLIGHT
TZOFFSETFROM:-0600
TZOFFSETTO:-0500
TZNAME:CDT
DTSTART:20250309T080000
END:DAYLIGHT
BEGIN:STANDARD
TZOFFSETFROM:-0500
TZOFFSETTO:-0600
TZNAME:CST
DTSTART:20251102T070000
END:STANDARD
BEGIN:DAYLIGHT
TZOFFSETFROM:-0600
TZOFFSETTO:-0500
TZNAME:CDT
DTSTART:20260308T080000
END:DAYLIGHT
BEGIN:STANDARD
TZOFFSETFROM:-0500
TZOFFSETTO:-0600
TZNAME:CST
DTSTART:20261101T070000
END:STANDARD
BEGIN:DAYLIGHT
TZOFFSETFROM:-0600
TZOFFSETTO:-0500
TZNAME:CDT
DTSTART:20270314T080000
END:DAYLIGHT
BEGIN:STANDARD
TZOFFSETFROM:-0500
TZOFFSETTO:-0600
TZNAME:CST
DTSTART:20271107T070000
END:STANDARD
END:VTIMEZONE
BEGIN:VEVENT
DTSTART;VALUE=DATE:20260606
DTEND;VALUE=DATE:20260608
DTSTAMP:20260420T070634
CREATED:20251112T204557Z
LAST-MODIFIED:20251112T204557Z
UID:6217-1780704000-1780876799@nwta.com
SUMMARY:Colonial Days - Taylor\, Michigan
DESCRIPTION:
URL:https://nwta.com/event/colonial-days-taylor-michigan/
LOCATION:Heritage Park\, 12111 Pardee Rd\, Taylor\, MI\, 48180\, United States
ORGANIZER;CN="North West Territory Alliance - NWTA":MAILTO:noreply@facebookmail.com
END:VEVENT
BEGIN:VEVENT
DTSTART;VALUE=DATE:20260613
DTEND;VALUE=DATE:20260615
DTSTAMP:20260420T070634
CREATED:20251112T204632Z
LAST-MODIFIED:20251112T204632Z
UID:6220-1781308800-1781481599@nwta.com
SUMMARY:Cantigny
DESCRIPTION:
URL:https://nwta.com/event/cantigny-9/
LOCATION:Cantigny Park\, 1S151 Winfield Rd\, Wheaton\, 60189\, United States
ORGANIZER;CN="North West Territory Alliance - NWTA":MAILTO:noreply@facebookmail.com
END:VEVENT
END:VCALENDAR