BEGIN:VCALENDAR
VERSION:2.0
PRODID:-//NWTA - ECPv6.15.17.1//NONSGML v1.0//EN
CALSCALE:GREGORIAN
METHOD:PUBLISH
X-WR-CALNAME:NWTA
X-ORIGINAL-URL:https://nwta.com
X-WR-CALDESC:Events for NWTA
REFRESH-INTERVAL;VALUE=DURATION:PT1H
X-Robots-Tag:noindex
X-PUBLISHED-TTL:PT1H
BEGIN:VTIMEZONE
TZID:America/Chicago
BEGIN:DAYLIGHT
TZOFFSETFROM:-0600
TZOFFSETTO:-0500
TZNAME:CDT
DTSTART:20250309T080000
END:DAYLIGHT
BEGIN:STANDARD
TZOFFSETFROM:-0500
TZOFFSETTO:-0600
TZNAME:CST
DTSTART:20251102T070000
END:STANDARD
BEGIN:DAYLIGHT
TZOFFSETFROM:-0600
TZOFFSETTO:-0500
TZNAME:CDT
DTSTART:20260308T080000
END:DAYLIGHT
BEGIN:STANDARD
TZOFFSETFROM:-0500
TZOFFSETTO:-0600
TZNAME:CST
DTSTART:20261101T070000
END:STANDARD
BEGIN:DAYLIGHT
TZOFFSETFROM:-0600
TZOFFSETTO:-0500
TZNAME:CDT
DTSTART:20270314T080000
END:DAYLIGHT
BEGIN:STANDARD
TZOFFSETFROM:-0500
TZOFFSETTO:-0600
TZNAME:CST
DTSTART:20271107T070000
END:STANDARD
END:VTIMEZONE
BEGIN:VEVENT
DTSTART;VALUE=DATE:20260718
DTEND;VALUE=DATE:20260720
DTSTAMP:20260418T010154
CREATED:20251112T205030Z
LAST-MODIFIED:20260130T015945Z
UID:6231-1784332800-1784505599@nwta.com
SUMMARY:Riverview Park
DESCRIPTION:AMENITIES \nIn addition to firewood\, water and straw: \nFree Pancake Breakfast both days \nSaturday night dinner rations (probably stew meat & vegetables) \nFree ice for your coolers \nBlack Powder for both Artillery and anyone carrying a Musket \nVoyageur canoe rides \nThe campsite and battlefield areas are both wooded\, so plenty of shade for everyone!
URL:https://nwta.com/event/riverview-park/
LOCATION:Riverview Park\, 2927 Niles Rd\, St Joseph\, MI\, 49085\, United States
ORGANIZER;CN="North West Territory Alliance - NWTA":MAILTO:noreply@facebookmail.com
END:VEVENT
END:VCALENDAR